BEGIN:VCALENDAR
VERSION:2.0
PRODID:-//Antigua Brewing Company - ECPv6.15.20//NONSGML v1.0//EN
CALSCALE:GREGORIAN
METHOD:PUBLISH
X-ORIGINAL-URL:https://antiguabrewingusa.com
X-WR-CALDESC:Events for Antigua Brewing Company
REFRESH-INTERVAL;VALUE=DURATION:PT1H
X-Robots-Tag:noindex
X-PUBLISHED-TTL:PT1H
BEGIN:VTIMEZONE
TZID:America/Los_Angeles
BEGIN:DAYLIGHT
TZOFFSETFROM:-0800
TZOFFSETTO:-0700
TZNAME:PDT
DTSTART:20220313T100000
END:DAYLIGHT
BEGIN:STANDARD
TZOFFSETFROM:-0700
TZOFFSETTO:-0800
TZNAME:PST
DTSTART:20221106T090000
END:STANDARD
BEGIN:DAYLIGHT
TZOFFSETFROM:-0800
TZOFFSETTO:-0700
TZNAME:PDT
DTSTART:20230312T100000
END:DAYLIGHT
BEGIN:STANDARD
TZOFFSETFROM:-0700
TZOFFSETTO:-0800
TZNAME:PST
DTSTART:20231105T090000
END:STANDARD
BEGIN:DAYLIGHT
TZOFFSETFROM:-0800
TZOFFSETTO:-0700
TZNAME:PDT
DTSTART:20240310T100000
END:DAYLIGHT
BEGIN:STANDARD
TZOFFSETFROM:-0700
TZOFFSETTO:-0800
TZNAME:PST
DTSTART:20241103T090000
END:STANDARD
END:VTIMEZONE
BEGIN:VEVENT
DTSTART;TZID=America/Los_Angeles:20230817T170000
DTEND;TZID=America/Los_Angeles:20230817T210000
DTSTAMP:20260421T020540
CREATED:20230628T181752Z
LAST-MODIFIED:20230713T201054Z
UID:1567-1692291600-1692306000@antiguabrewingusa.com
SUMMARY:Hop Harvest Member Party!
DESCRIPTION:Club Antigua Member Party at the Antigua Farms hop farm includes beer\, BBQ\, music\, and hop yard tours. Wondering what a hop yard looks like? Never smelled real\, while cone hops? Join Club Antigua now and plan to join us for our annual member event. 
URL:https://antiguabrewingusa.com/event/hop-harvest-member-party/
LOCATION:CA
CATEGORIES:Party
END:VEVENT
END:VCALENDAR