BEGIN:VCALENDAR
VERSION:2.0
PRODID:-//Antigua Brewing Company - ECPv6.15.20//NONSGML v1.0//EN
CALSCALE:GREGORIAN
METHOD:PUBLISH
X-WR-CALNAME:Antigua Brewing Company
X-ORIGINAL-URL:https://antiguabrewingusa.com
X-WR-CALDESC:Events for Antigua Brewing Company
REFRESH-INTERVAL;VALUE=DURATION:PT1H
X-Robots-Tag:noindex
X-PUBLISHED-TTL:PT1H
BEGIN:VTIMEZONE
TZID:America/Los_Angeles
BEGIN:DAYLIGHT
TZOFFSETFROM:-0800
TZOFFSETTO:-0700
TZNAME:PDT
DTSTART:20210314T100000
END:DAYLIGHT
BEGIN:STANDARD
TZOFFSETFROM:-0700
TZOFFSETTO:-0800
TZNAME:PST
DTSTART:20211107T090000
END:STANDARD
BEGIN:DAYLIGHT
TZOFFSETFROM:-0800
TZOFFSETTO:-0700
TZNAME:PDT
DTSTART:20220313T100000
END:DAYLIGHT
BEGIN:STANDARD
TZOFFSETFROM:-0700
TZOFFSETTO:-0800
TZNAME:PST
DTSTART:20221106T090000
END:STANDARD
BEGIN:DAYLIGHT
TZOFFSETFROM:-0800
TZOFFSETTO:-0700
TZNAME:PDT
DTSTART:20230312T100000
END:DAYLIGHT
BEGIN:STANDARD
TZOFFSETFROM:-0700
TZOFFSETTO:-0800
TZNAME:PST
DTSTART:20231105T090000
END:STANDARD
BEGIN:DAYLIGHT
TZOFFSETFROM:-0800
TZOFFSETTO:-0700
TZNAME:PDT
DTSTART:20240310T100000
END:DAYLIGHT
BEGIN:STANDARD
TZOFFSETFROM:-0700
TZOFFSETTO:-0800
TZNAME:PST
DTSTART:20241103T090000
END:STANDARD
END:VTIMEZONE
BEGIN:VEVENT
DTSTART;TZID=America/Los_Angeles:20230213T190000
DTEND;TZID=America/Los_Angeles:20230213T210000
DTSTAMP:20260419T082529
CREATED:20230109T221457Z
LAST-MODIFIED:20230109T221457Z
UID:1508-1676314800-1676322000@antiguabrewingusa.com
SUMMARY:Perfect Pairing - Beer & Chocolate
DESCRIPTION:A perfect pairing – locally-made beer\, crafted with locally grown hops\, meets locally-made artisanal chocolates! Each person will receive 4 small pours of Antigua Brewing Company beer and a carefully selected corresponding chocolate from Mama Ganache Artisan Chocolates. The brewmaster and chocolatier collaborated to hand-select each pairing. \nThis is a unique opportunity to explore the flavors of each locally crafted item individually\, see how complimentary and contrasting flavors interact with each other\, and discuss the components of each! It’s sure to be a fun\, interesting\, and delicious evening. \n 
URL:https://antiguabrewingusa.com/event/perfect-pairing-beer-chocolate/
LOCATION:Antigua Brewing Company\, 1009 Monterey Street\, SAN LUIS OBISPO\, CA\, 93401\, United States
CATEGORIES:Special Event
END:VEVENT
BEGIN:VEVENT
DTSTART;VALUE=DATE:20230203
DTEND;VALUE=DATE:20230207
DTSTAMP:20260419T082529
CREATED:20230110T183511Z
LAST-MODIFIED:20230110T183511Z
UID:1512-1675382400-1675727999@antiguabrewingusa.com
SUMMARY:Anniversary Weekend Celebration
DESCRIPTION:Join us as we celebrate our first anniversary with live music\, beer specials & more! \n\n$5 Celebration Red Ales – all weekend pours of Celebration will be $5\n$5 Power Hours – randomly throughout the weekend pours of a selected Antigua beer or seltzer will be $5 each\nSurprise Member Gifts\nLive Music\nGiveaways!\n\n 
URL:https://antiguabrewingusa.com/event/anniversary-weekend-celebration/
LOCATION:Antigua Brewing Company\, 1009 Monterey Street\, SAN LUIS OBISPO\, CA\, 93401\, United States
CATEGORIES:Music,Party,Special Event
END:VEVENT
BEGIN:VEVENT
DTSTART;TZID=America/Los_Angeles:20230201T183000
DTEND;TZID=America/Los_Angeles:20230201T203000
DTSTAMP:20260419T082529
CREATED:20230720T013048Z
LAST-MODIFIED:20230608T002209Z
UID:1448-1675276200-1675283400@antiguabrewingusa.com
SUMMARY:Wednesday Night Trivia
DESCRIPTION:Join us every Wednesday night at 6:30pm for food\, beer\, and trivia. Free to play. Teams of up to 6. Win prizes and have a great time!
URL:https://antiguabrewingusa.com/event/wednesday-night-trivia-4/
LOCATION:Antigua Brewing Company\, 1009 Monterey Street\, SAN LUIS OBISPO\, CA\, 93401\, United States
CATEGORIES:Trivia
END:VEVENT
BEGIN:VEVENT
DTSTART;TZID=America/Los_Angeles:20230125T183000
DTEND;TZID=America/Los_Angeles:20230125T203000
DTSTAMP:20260419T082529
CREATED:20220926T012135Z
LAST-MODIFIED:20230109T222158Z
UID:1450-1674671400-1674678600@antiguabrewingusa.com
SUMMARY:Wednesday Night Trivia
DESCRIPTION:Join us every Wednesday night at 6:30pm for food\, beer\, and trivia. Free to play. Teams of up to 6. Win prizes and have a great time!
URL:https://antiguabrewingusa.com/event/wednesday-night-trivia-5/
LOCATION:Antigua Brewing Company\, 1009 Monterey Street\, SAN LUIS OBISPO\, CA\, 93401\, United States
CATEGORIES:Trivia
END:VEVENT
BEGIN:VEVENT
DTSTART;TZID=America/Los_Angeles:20230118T183000
DTEND;TZID=America/Los_Angeles:20230118T203000
DTSTAMP:20260419T082529
CREATED:20220926T012422Z
LAST-MODIFIED:20230109T221926Z
UID:1454-1674066600-1674073800@antiguabrewingusa.com
SUMMARY:Wednesday Night Trivia
DESCRIPTION:Join us every Wednesday night at 6:30pm for food\, beer\, and trivia. Free to play. Teams of up to 6. Win prizes and have a great time!
URL:https://antiguabrewingusa.com/event/wednesday-night-trivia-6/
LOCATION:Antigua Brewing Company\, 1009 Monterey Street\, SAN LUIS OBISPO\, CA\, 93401\, United States
CATEGORIES:Trivia
END:VEVENT
BEGIN:VEVENT
DTSTART;TZID=America/Los_Angeles:20221204T170000
DTEND;TZID=America/Los_Angeles:20221204T193000
DTSTAMP:20260419T082529
CREATED:20221201T221132Z
LAST-MODIFIED:20221201T221132Z
UID:1505-1670173200-1670182200@antiguabrewingusa.com
SUMMARY:Live Music with Jake & Don
DESCRIPTION:Enjoy the accoustic sounds of Jake & Don.
URL:https://antiguabrewingusa.com/event/live-music-with-jake-don/
LOCATION:Antigua Brewing Company\, 1009 Monterey Street\, SAN LUIS OBISPO\, CA\, 93401\, United States
CATEGORIES:Music
END:VEVENT
BEGIN:VEVENT
DTSTART;TZID=America/Los_Angeles:20221201T180000
DTEND;TZID=America/Los_Angeles:20221201T200000
DTSTAMP:20260419T082529
CREATED:20221123T192638Z
LAST-MODIFIED:20221123T192638Z
UID:1501-1669917600-1669924800@antiguabrewingusa.com
SUMMARY:Live Music with KB
DESCRIPTION:Enjoy the soulful sounds of local artist KB.
URL:https://antiguabrewingusa.com/event/live-music-with-kb/
LOCATION:Antigua Brewing Company\, 1009 Monterey Street\, SAN LUIS OBISPO\, CA\, 93401\, United States
CATEGORIES:Music
END:VEVENT
END:VCALENDAR